BEGIN:VCALENDAR
VERSION:2.0
PRODID:-//Carrington Wholesale - ECPv6.15.17//NONSGML v1.0//EN
CALSCALE:GREGORIAN
METHOD:PUBLISH
X-WR-CALNAME:Carrington Wholesale
X-ORIGINAL-URL:https://www.carringtonwholesale.com
X-WR-CALDESC:Events for Carrington Wholesale
REFRESH-INTERVAL;VALUE=DURATION:PT1H
X-Robots-Tag:noindex
X-PUBLISHED-TTL:PT1H
BEGIN:VTIMEZONE
TZID:America/New_York
BEGIN:DAYLIGHT
TZOFFSETFROM:-0500
TZOFFSETTO:-0400
TZNAME:EDT
DTSTART:20250309T070000
END:DAYLIGHT
BEGIN:STANDARD
TZOFFSETFROM:-0400
TZOFFSETTO:-0500
TZNAME:EST
DTSTART:20251102T060000
END:STANDARD
BEGIN:DAYLIGHT
TZOFFSETFROM:-0500
TZOFFSETTO:-0400
TZNAME:EDT
DTSTART:20260308T070000
END:DAYLIGHT
BEGIN:STANDARD
TZOFFSETFROM:-0400
TZOFFSETTO:-0500
TZNAME:EST
DTSTART:20261101T060000
END:STANDARD
BEGIN:DAYLIGHT
TZOFFSETFROM:-0500
TZOFFSETTO:-0400
TZNAME:EDT
DTSTART:20270314T070000
END:DAYLIGHT
BEGIN:STANDARD
TZOFFSETFROM:-0400
TZOFFSETTO:-0500
TZNAME:EST
DTSTART:20271107T060000
END:STANDARD
END:VTIMEZONE
BEGIN:VTIMEZONE
TZID:America/Los_Angeles
BEGIN:DAYLIGHT
TZOFFSETFROM:-0800
TZOFFSETTO:-0700
TZNAME:PDT
DTSTART:20250309T100000
END:DAYLIGHT
BEGIN:STANDARD
TZOFFSETFROM:-0700
TZOFFSETTO:-0800
TZNAME:PST
DTSTART:20251102T090000
END:STANDARD
BEGIN:DAYLIGHT
TZOFFSETFROM:-0800
TZOFFSETTO:-0700
TZNAME:PDT
DTSTART:20260308T100000
END:DAYLIGHT
BEGIN:STANDARD
TZOFFSETFROM:-0700
TZOFFSETTO:-0800
TZNAME:PST
DTSTART:20261101T090000
END:STANDARD
BEGIN:DAYLIGHT
TZOFFSETFROM:-0800
TZOFFSETTO:-0700
TZNAME:PDT
DTSTART:20270314T100000
END:DAYLIGHT
BEGIN:STANDARD
TZOFFSETFROM:-0700
TZOFFSETTO:-0800
TZNAME:PST
DTSTART:20271107T090000
END:STANDARD
END:VTIMEZONE
BEGIN:VTIMEZONE
TZID:America/Phoenix
BEGIN:STANDARD
TZOFFSETFROM:-0700
TZOFFSETTO:-0700
TZNAME:MST
DTSTART:20250101T000000
END:STANDARD
END:VTIMEZONE
BEGIN:VTIMEZONE
TZID:America/Denver
BEGIN:DAYLIGHT
TZOFFSETFROM:-0700
TZOFFSETTO:-0600
TZNAME:MDT
DTSTART:20250309T090000
END:DAYLIGHT
BEGIN:STANDARD
TZOFFSETFROM:-0600
TZOFFSETTO:-0700
TZNAME:MST
DTSTART:20251102T080000
END:STANDARD
BEGIN:DAYLIGHT
TZOFFSETFROM:-0700
TZOFFSETTO:-0600
TZNAME:MDT
DTSTART:20260308T090000
END:DAYLIGHT
BEGIN:STANDARD
TZOFFSETFROM:-0600
TZOFFSETTO:-0700
TZNAME:MST
DTSTART:20261101T080000
END:STANDARD
BEGIN:DAYLIGHT
TZOFFSETFROM:-0700
TZOFFSETTO:-0600
TZNAME:MDT
DTSTART:20270314T090000
END:DAYLIGHT
BEGIN:STANDARD
TZOFFSETFROM:-0600
TZOFFSETTO:-0700
TZNAME:MST
DTSTART:20271107T080000
END:STANDARD
END:VTIMEZONE
BEGIN:VEVENT
DTSTART;TZID=America/New_York:20260506T090000
DTEND;TZID=America/New_York:20260507T180000
DTSTAMP:20260424T083644
CREATED:20260120T185820Z
LAST-MODIFIED:20260129T145954Z
UID:10000031-1778058000-1778176800@www.carringtonwholesale.com
SUMMARY:Southeast Real Estate Expo
DESCRIPTION:May 6\, 2026\n  \nThe Annual Southeast Real Estate Expo\, hosted at Roam Greenville ONE in Greenville\, United States\, is a premier event designed to connect\, collaborate\, and close deals within the commercial and residential real estate sectors. This event is a convergence point for leaders\, innovators\, and rising stars in the industry\, bringing together top national and international real estate professionals\, businesses\, and thought leaders. The expo aims to create powerful connections that open new opportunities and propel the industry forward in a dynamic environment.
URL:https://www.carringtonwholesale.com/event/southeast-real-estate-expo/
LOCATION:Roam Greenville ONE\, 2 W Washington Street Suite 200\, Greenville\, SC\, 29601
ORGANIZER;CN="One National Real Estate LLC":MAILTO:​info@onenationalrealestate.com
END:VEVENT
BEGIN:VEVENT
DTSTART;TZID=America/Los_Angeles:20260507T081500
DTEND;TZID=America/Los_Angeles:20260508T170000
DTSTAMP:20260424T083644
CREATED:20250314T135024Z
LAST-MODIFIED:20260129T150055Z
UID:10000008-1778141700-1778259600@www.carringtonwholesale.com
SUMMARY:CA Mortgage Expo - IRVINE
DESCRIPTION:May 7\, 2026\n  \nThe mortgage industry is going through a significant change. For mortgage origination professionals\, it's a struggle to keep on top of all the changes\, and to keep your sales strategies and marketing initiatives at their peak. You need to keep your pipeline filled\, and you need the tools and directions to stay profitable\, efficient\, and effective. We've brought together the best in the business to create a top tier event specifically designed for mortgage origination pros.
URL:https://www.carringtonwholesale.com/event/ca-mortgage-expo-irvine/
LOCATION:Hilton Irvine/Orange County Airport\, 18800 MacArthur Blvd\, Irvine\, CA\, 92612
ORGANIZER;CN="Originator Connect":MAILTO:info@ambizmedia.com
END:VEVENT
BEGIN:VEVENT
DTSTART;TZID=America/New_York:20260517T100000
DTEND;TZID=America/New_York:20260520T100000
DTSTAMP:20260424T083644
CREATED:20250314T135617Z
LAST-MODIFIED:20260417T130033Z
UID:10000009-1779012000-1779271200@www.carringtonwholesale.com
SUMMARY:MBA’s Secondary and Capital Markets Conference
DESCRIPTION:May 17\, 2026\n  \nMeet us in New York City at the Marriott Marquis New York on May 17-20 for the largest gathering of secondary and capital markets professionals in real estate finance. Get actionable insights from key industry leaders\, CEOs\, and market makers — representing every facet of the industry — on the latest trends\, policy developments\, and strategies to succeed. Connect with current and potential business partners in sessions\, meetings\, and through networking at MBA's Secondary & Capital Markets Conference. It's a can't-miss event.
URL:https://www.carringtonwholesale.com/event/mbas-secondary-and-capital-markets-conference/
LOCATION:Marriott Marquis\, 1535 Broadway\, New York\, NY\, 10036
ORGANIZER;CN="Mortgage Bankers Association":MAILTO:meetings@mba.org
END:VEVENT
BEGIN:VEVENT
DTSTART;TZID=America/Phoenix:20260716T000000
DTEND;TZID=America/Phoenix:20260716T235959
DTSTAMP:20260424T083644
CREATED:20250421T125845Z
LAST-MODIFIED:20251119T194658Z
UID:10000022-1784160000-1784246399@www.carringtonwholesale.com
SUMMARY:Arizona Mortgage Expo
DESCRIPTION:July 16\, 2026\n  \nThe Arizona Mortgage Expo is an extraordinary event\, celebrating\, advancing and supporting the men and women who finance residential and commercial real estate property in Arizona. Produced by the Originator Connect Network\, with top speakers\, great hands-on sessions and a wealth of opportunities from exhibitors and sponsors\, it’s Arizona’s largest gathering of originators\, and a can’t-miss day for hundreds of mortgage professionals.
URL:https://www.carringtonwholesale.com/event/arizona-mortgage-expo/
LOCATION:Wild Horse Pass Resort & Casino\, 5040 Wild Horse Pass Boulevard\, Chandler\, AZ\, 85226\, United States
ORGANIZER;CN="Originator Connect":MAILTO:info@ambizmedia.com
END:VEVENT
BEGIN:VEVENT
DTSTART;TZID=America/New_York:20260805T000000
DTEND;TZID=America/New_York:20260808T000000
DTSTAMP:20260424T083644
CREATED:20250314T142057Z
LAST-MODIFIED:20260129T150233Z
UID:10000032-1785888000-1786147200@www.carringtonwholesale.com
SUMMARY:FAMP Annual Convention and Tradeshow
DESCRIPTION:August 5-8\, 2026\n  \nWelcome to the ultimate gathering for Florida's mortgage professionals- Get ready for an exhilarating experience like no other as we bring you the most anticipated event of the year. From our kick-off annual golf tournament to our world-class Tradeshow\, featuring the latest innovations and top industry exhibitors\, there's something for everyone.
URL:https://www.carringtonwholesale.com/event/famp-annual-convention-and-tradeshow/
LOCATION:JW Marriott & The Ritz-Carlton Grande-Lakes\, 4012 Central Florida Parkway\, Orlando\, Florida\, 32837
ORGANIZER;CN="Florida Association of Mortgage Professionals":MAILTO:admin@ourfamp.org
END:VEVENT
BEGIN:VEVENT
DTSTART;TZID=America/Los_Angeles:20260806T080000
DTEND;TZID=America/Los_Angeles:20260807T170000
DTSTAMP:20260424T083644
CREATED:20250314T141505Z
LAST-MODIFIED:20251119T195107Z
UID:10000013-1786003200-1786122000@www.carringtonwholesale.com
SUMMARY:CA Mortgage Expo – San Diego
DESCRIPTION:August 6\, 2026\n  \nThe mortgage industry is going through a significant change. For mortgage origination professionals\, it's a struggle to keep on top of all the changes\, and to keep your sales strategies and marketing initiatives at their peak. You need to keep your pipeline filled\, and you need the tools and directions to stay profitable\, efficient\, and effective. We've brought together the best in the business to create a top tier event specifically designed for mortgage origination pros.
URL:https://www.carringtonwholesale.com/event/ca-mortgage-expo-san-diego/
LOCATION:Marriott La Jolla\, 4240 La Jolla Village Dr\, San Diego\, CA\, 92037
ORGANIZER;CN="Originator Connect":MAILTO:info@ambizmedia.com
END:VEVENT
BEGIN:VEVENT
DTSTART;TZID=America/New_York:20260813T080000
DTEND;TZID=America/New_York:20260816T170000
DTSTAMP:20260424T083645
CREATED:20250314T142333Z
LAST-MODIFIED:20251119T195203Z
UID:10000016-1786608000-1786899600@www.carringtonwholesale.com
SUMMARY:Originator Connect
DESCRIPTION:August 13\, 2026\n  \nThe mortgage industry is going through a significant change. For mortgage origination professionals\, it's a struggle to keep on top of all the changes\, and to keep your sales strategies and marketing initiatives at their peak. You need to keep your pipeline filled\, and you need the tools and directions to stay profitable\, efficient\, and effective. We've brought together the best in the business to create a top tier event specifically designed for mortgage origination pros.
URL:https://www.carringtonwholesale.com/event/originator-connect/
LOCATION:Planet Hollywood\, 3667 Las Vegas Blvd S\, Las Vegas\, NV\, 89109
ORGANIZER;CN="Originator Connect":MAILTO:info@ambizmedia.com
END:VEVENT
BEGIN:VEVENT
DTSTART;TZID=America/Denver:20260901T073000
DTEND;TZID=America/Denver:20260902T170000
DTSTAMP:20260424T083645
CREATED:20250314T142535Z
LAST-MODIFIED:20251119T195401Z
UID:10000017-1788247800-1788368400@www.carringtonwholesale.com
SUMMARY:Texas Mortgage Roundup – Dallas
DESCRIPTION:September 1\, 2026\n  \nThe mortgage industry is going through a significant change. For mortgage origination professionals\, it's a struggle to keep on top of all the changes\, and to keep your sales strategies and marketing initiatives at their peak. You need to keep your pipeline filled\, and you need the tools and directions to stay profitable\, efficient\, and effective. We've brought together the best in the business to create a top tier event specifically designed for mortgage origination pros.
URL:https://www.carringtonwholesale.com/event/texas-mortgage-roundup-dallas/
LOCATION:Doubletree By Hilton Dallas Richardson\, 1981 N Central Expy\, Richardson\, TX\, 75080
ORGANIZER;CN="Originator Connect":MAILTO:info@ambizmedia.com
END:VEVENT
BEGIN:VEVENT
DTSTART;TZID=America/Los_Angeles:20261001T000000
DTEND;TZID=America/Los_Angeles:20261031T235959
DTSTAMP:20260424T083645
CREATED:20260121T124721Z
LAST-MODIFIED:20260129T150343Z
UID:10000034-1790812800-1793491199@www.carringtonwholesale.com
SUMMARY:NYC Real Estate Expo
DESCRIPTION:October 2026\n  \n\nWhere Real Estate Meets Opportunity\n\n\nJoin the industry’s most influential professionals for a full day of high-impact networking\, dynamic panels\, and exclusive insights.
URL:https://www.carringtonwholesale.com/event/nyc-real-estate-expo/
ORGANIZER;CN="National Association of Mortgage Brokers":MAILTO:namb@namb.org
END:VEVENT
BEGIN:VEVENT
DTSTART;TZID=America/Los_Angeles:20261016T080000
DTEND;TZID=America/Los_Angeles:20261018T170000
DTSTAMP:20260424T083645
CREATED:20250314T145959Z
LAST-MODIFIED:20251119T195459Z
UID:10000018-1792137600-1792342800@www.carringtonwholesale.com
SUMMARY:NAMB National
DESCRIPTION:October 16\, 2026\n  \nJoin the nation’s top mortgage professionals at NAMB National\, the premier event for brokers\, lenders\, and industry leaders. Gain insights on market trends\, regulatory updates\, and business growth strategies while networking with key players. Don’t miss this opportunity to learn\, connect\, and elevate your business!
URL:https://www.carringtonwholesale.com/event/namb-national/
LOCATION:Caesars Palace\, 3570 S Las Vegas Blvd\, Las Vegas\, NV\, 89109
ORGANIZER;CN="National Association of Mortgage Brokers":MAILTO:namb@namb.org
END:VEVENT
BEGIN:VEVENT
DTSTART;TZID=America/New_York:20261027T090000
DTEND;TZID=America/New_York:20261027T180000
DTSTAMP:20260424T083645
CREATED:20260121T125348Z
LAST-MODIFIED:20260406T153238Z
UID:10000035-1793091600-1793124000@www.carringtonwholesale.com
SUMMARY:NYAMB's 39th Annual Mortgage Conference & Tradeshow
DESCRIPTION:October 27\, 2026\n  \nStay ahead of industry trends at NYAMB's premier conference! Join experts and peers to discuss the latest best practices\, meet brokers\, and network with colleagues. Don't miss this essential event for mortgage professionals!
URL:https://www.carringtonwholesale.com/event/nyambs-39th-annual-mortgage-conference-tradeshow/
ORGANIZER;CN="New York Association of Mortgage Brokers":MAILTO:etella@teammgmtsvs.com
END:VEVENT
END:VCALENDAR